BEGIN:VCALENDAR
VERSION:2.0
PRODID:-//Riga Republican Committee - ECPv6.0.13//NONSGML v1.0//EN
CALSCALE:GREGORIAN
METHOD:PUBLISH
X-WR-CALNAME:Riga Republican Committee
X-ORIGINAL-URL:http://rigagop.com
X-WR-CALDESC:Events for Riga Republican Committee
REFRESH-INTERVAL;VALUE=DURATION:PT1H
X-Robots-Tag:noindex
X-PUBLISHED-TTL:PT1H
BEGIN:VTIMEZONE
TZID:UTC
BEGIN:STANDARD
TZOFFSETFROM:+0000
TZOFFSETTO:+0000
TZNAME:UTC
DTSTART:20160101T000000
END:STANDARD
END:VTIMEZONE
BEGIN:VEVENT
DTSTART;VALUE=DATE:20211215
DTEND;VALUE=DATE:20211216
DTSTAMP:20260423T121758
CREATED:20210927T050703Z
LAST-MODIFIED:20210927T050703Z
UID:1778-1639526400-1639612799@rigagop.com
SUMMARY:Committee Meeting
DESCRIPTION:Contact Pat Moore at 585-750-7626 for details
URL:http://rigagop.com/event/committee-meeting-3/
LOCATION:NY
END:VEVENT
BEGIN:VEVENT
DTSTART;VALUE=DATE:20211117
DTEND;VALUE=DATE:20211118
DTSTAMP:20260423T121758
CREATED:20210927T050616Z
LAST-MODIFIED:20210927T050616Z
UID:1776-1637107200-1637193599@rigagop.com
SUMMARY:Committee Meeting
DESCRIPTION:Contact Pat Moore at 585-750-7626 for details
URL:http://rigagop.com/event/committee-meeting-2/
LOCATION:NY
END:VEVENT
BEGIN:VEVENT
DTSTART;VALUE=DATE:20211020
DTEND;VALUE=DATE:20211021
DTSTAMP:20260423T121758
CREATED:20210927T050516Z
LAST-MODIFIED:20210927T050516Z
UID:1774-1634688000-1634774399@rigagop.com
SUMMARY:Committee Meeting
DESCRIPTION:Contact Pat Moore at 585-750-7626 for details
URL:http://rigagop.com/event/committee-meeting/
LOCATION:NY
END:VEVENT
BEGIN:VEVENT
DTSTART;VALUE=DATE:20200919
DTEND;VALUE=DATE:20200920
DTSTAMP:20260423T121758
CREATED:20200127T053745Z
LAST-MODIFIED:20200127T053745Z
UID:1707-1600473600-1600559999@rigagop.com
SUMMARY:Riga Republican Steak Roast at Maher Lodge
DESCRIPTION:For more information contact@rigagop.com
URL:http://rigagop.com/event/riga-republican-steak-roast-maher-lodge/
LOCATION:Maher Lodge\, 863 Sanford Rd S\, Churchville\, NY\, 14428\, United States
END:VEVENT
BEGIN:VEVENT
DTSTART;TZID=UTC:20200719T120000
DTEND;TZID=UTC:20200719T200000
DTSTAMP:20260423T121758
CREATED:20200127T061306Z
LAST-MODIFIED:20200127T061306Z
UID:1715-1595160000-1595188800@rigagop.com
SUMMARY:17th Annual Riga Republican Golf Tournament
DESCRIPTION:Click Here For Registration Form
URL:http://rigagop.com/event/17th-annual-riga-republican-golf-tournament/
LOCATION:Mill Creek Golf Course\, 128 Cedars Avenue\, Churchville\, NY\, NY\, 14428\, United States
END:VEVENT
BEGIN:VEVENT
DTSTART;VALUE=DATE:20190914
DTEND;VALUE=DATE:20190915
DTSTAMP:20260423T121758
CREATED:20190808T080111Z
LAST-MODIFIED:20190808T080111Z
UID:1687-1568419200-1568505599@rigagop.com
SUMMARY:Riga Republican Committee Annual Steak Roast
DESCRIPTION:Held at Riga Sanford Road Park in the William Maher Pavilion – A fun filled evening with good food and friends.  $25 per person includes\, Steak\, Potatoes\, corn\, salads\, dessert and drinks.  Contact Pat Moore for tickets or more information 585-750-7626.
URL:http://rigagop.com/event/riga-republican-committee-annual-steak-roast/
LOCATION:NY
END:VEVENT
BEGIN:VEVENT
DTSTART;TZID=UTC:20190817T080000
DTEND;TZID=UTC:20190818T170000
DTSTAMP:20260423T121758
CREATED:20190808T075947Z
LAST-MODIFIED:20190808T075947Z
UID:1685-1566028800-1566147600@rigagop.com
SUMMARY:Churchville Lions Club Country Fair
DESCRIPTION:Visit our booth for information and to meet members and candidates.
URL:http://rigagop.com/event/churchville-lions-club-country-fair/
LOCATION:NY
END:VEVENT
BEGIN:VEVENT
DTSTART;TZID=UTC:20161214T190000
DTEND;TZID=UTC:20161214T210000
DTSTAMP:20260423T121758
CREATED:20160614T041041Z
LAST-MODIFIED:20160614T041041Z
UID:1602-1481742000-1481749200@rigagop.com
SUMMARY:Riga Town Board Meeting
DESCRIPTION:See your Republican elected officials in action!  Learn about the latest news of the Town.  Express your questions\, comments\, or concerns.
URL:http://rigagop.com/event/riga-town-board-meeting-6/
LOCATION:Riga Town Hall\, 6460 East Buffalo Road\, Riga\, NY\, 14428\, United States
ATTACH;FMTTYPE=image/jpeg:http://rigagop.com/wp-content/uploads/2015/07/slide4_850-1.jpg
END:VEVENT
BEGIN:VEVENT
DTSTART;TZID=UTC:20161109T190000
DTEND;TZID=UTC:20161109T210000
DTSTAMP:20260423T121758
CREATED:20160614T040958Z
LAST-MODIFIED:20160614T040958Z
UID:1601-1478718000-1478725200@rigagop.com
SUMMARY:Riga Town Board Meeting
DESCRIPTION:See your Republican elected officials in action!  Learn about the latest news of the Town.  Express your questions\, comments\, or concerns.
URL:http://rigagop.com/event/riga-town-board-meeting-5/
LOCATION:Riga Town Hall\, 6460 East Buffalo Road\, Riga\, NY\, 14428\, United States
ATTACH;FMTTYPE=image/jpeg:http://rigagop.com/wp-content/uploads/2015/07/slide4_850-1.jpg
END:VEVENT
BEGIN:VEVENT
DTSTART;TZID=UTC:20161012T190000
DTEND;TZID=UTC:20161012T210000
DTSTAMP:20260423T121758
CREATED:20160614T040903Z
LAST-MODIFIED:20160614T040903Z
UID:1603-1476298800-1476306000@rigagop.com
SUMMARY:Riga Town Board Meeting
DESCRIPTION:See your Republican elected officials in action!  Learn about the latest news of the Town.  Express your questions\, comments\, or concerns.
URL:http://rigagop.com/event/riga-town-board-meeting-4/
LOCATION:Riga Town Hall\, 6460 East Buffalo Road\, Riga\, NY\, 14428\, United States
ATTACH;FMTTYPE=image/jpeg:http://rigagop.com/wp-content/uploads/2015/07/slide4_850-1.jpg
END:VEVENT
BEGIN:VEVENT
DTSTART;TZID=UTC:20160914T190000
DTEND;TZID=UTC:20160914T210000
DTSTAMP:20260423T121758
CREATED:20160614T040837Z
LAST-MODIFIED:20160614T040837Z
UID:1604-1473879600-1473886800@rigagop.com
SUMMARY:Riga Town Board Meeting
DESCRIPTION:See your Republican elected officials in action!  Learn about the latest news of the Town.  Express your questions\, comments\, or concerns.
URL:http://rigagop.com/event/riga-town-board-meeting-3/
LOCATION:Riga Town Hall\, 6460 East Buffalo Road\, Riga\, NY\, 14428\, United States
ATTACH;FMTTYPE=image/jpeg:http://rigagop.com/wp-content/uploads/2015/07/slide4_850-1.jpg
END:VEVENT
BEGIN:VEVENT
DTSTART;TZID=UTC:20160810T190000
DTEND;TZID=UTC:20160810T210000
DTSTAMP:20260423T121758
CREATED:20160614T040730Z
LAST-MODIFIED:20160614T040730Z
UID:1600-1470855600-1470862800@rigagop.com
SUMMARY:Riga Town Board Meeting
DESCRIPTION:See your Republican elected officials in action!  Learn about the latest news of the Town.  Express your questions\, comments\, or concerns.
URL:http://rigagop.com/event/riga-town-board-meeting-2/
LOCATION:Riga Town Hall\, 6460 East Buffalo Road\, Riga\, NY\, 14428\, United States
ATTACH;FMTTYPE=image/jpeg:http://rigagop.com/wp-content/uploads/2015/07/slide4_850-1.jpg
END:VEVENT
BEGIN:VEVENT
DTSTART;TZID=UTC:20160717T000000
DTEND;TZID=UTC:20160717T190000
DTSTAMP:20260423T121758
CREATED:20160614T035130Z
LAST-MODIFIED:20160614T041751Z
UID:1593-1468713600-1468782000@rigagop.com
SUMMARY:13th Annual RRC Golf Tournament
DESCRIPTION:13th Annual Riga Republican Golf Tournament \n$99 per golfer\nIncludes:\n• 18 Holes of Golf\n• Lunch & Steak Dinner \nFour Person Team Scramble! \n• Door Prizes\n• Team and individual awards\n• A Great Time! \nDon’t golf\, please consider sponsoring! \nSponsorship Levels: \n$100 – Hole Sponsorship \n$600 – Tournament Sponsorship\nIncludes:\n• Golf/Dinner Four People \nSchedule:\n12:00 PM Registration & Lunch\n1:00 PM Golf\n7:00 PM Steak Dinner \nAll Proceeds to fund:\nTHE RIGA REPUBLICAN COMMITTEE \nJust want some quality\, hand-cooked food?  Come for a steak dinner with your family\, friends\, and neighbors for just $35. \nFor more details\, see our flyer!
URL:http://rigagop.com/event/13th-annual-rrc-golf-tournament/
LOCATION:Mill Creek Golf Course\, 128 Cedars Avenue\, Churchville\, NY\, NY\, 14428\, United States
ATTACH;FMTTYPE=image/jpeg:http://rigagop.com/wp-content/uploads/2016/06/golf-1073465_960_720.jpg
END:VEVENT
BEGIN:VEVENT
DTSTART;TZID=UTC:20160713T190000
DTEND;TZID=UTC:20160713T210000
DTSTAMP:20260423T121758
CREATED:20160608T073308Z
LAST-MODIFIED:20160614T040327Z
UID:1465-1468436400-1468443600@rigagop.com
SUMMARY:Riga Town Board Meeting
DESCRIPTION:See your Republican elected officials in action!  Learn about the latest news of the Town.  Express your questions\, comments\, or concerns.
URL:http://rigagop.com/event/riga-town-board-meeting/
LOCATION:Riga Town Hall\, 6460 East Buffalo Road\, Riga\, NY\, 14428\, United States
ATTACH;FMTTYPE=image/jpeg:http://rigagop.com/wp-content/uploads/2015/07/slide4_850-1.jpg
END:VEVENT
END:VCALENDAR